BEGIN:VCALENDAR
VERSION:2.0
PRODID:-//CAPCA - ECPv6.2.9//NONSGML v1.0//EN
CALSCALE:GREGORIAN
METHOD:PUBLISH
X-WR-CALNAME:CAPCA
X-ORIGINAL-URL:https://capca.com
X-WR-CALDESC:Events for CAPCA
REFRESH-INTERVAL;VALUE=DURATION:PT1H
X-Robots-Tag:noindex
X-PUBLISHED-TTL:PT1H
BEGIN:VTIMEZONE
TZID:America/Los_Angeles
BEGIN:DAYLIGHT
TZOFFSETFROM:-0800
TZOFFSETTO:-0700
TZNAME:PDT
DTSTART:20230312T100000
END:DAYLIGHT
BEGIN:STANDARD
TZOFFSETFROM:-0700
TZOFFSETTO:-0800
TZNAME:PST
DTSTART:20231105T090000
END:STANDARD
END:VTIMEZONE
BEGIN:VEVENT
DTSTART;TZID=America/Los_Angeles:20230419T150000
DTEND;TZID=America/Los_Angeles:20230419T160000
DTSTAMP:20260422T191528
CREATED:20230302T190744Z
LAST-MODIFIED:20230302T190744Z
UID:10000015-1681916400-1681920000@capca.com
SUMMARY:UC IPM Webinar - Insects in the Vineyard
DESCRIPTION:Date: 04/19/2023 \nTime: 3:00 p.m. to 4:00 p.m. \nContact: creynolds@ucanr.edu \nCE Hours: 1.0 (1.0 other)
URL:https://capca.com/calendar/uc-ipm-webinar-insects-in-the-vineyard/
CATEGORIES:Continuing Education
ATTACH;FMTTYPE=image/jpeg:https://capca.com/wp-content/uploads/2023/02/Almond-blossoms-blue-sky.jpg
END:VEVENT
END:VCALENDAR