BEGIN:VCALENDAR
VERSION:2.0
PRODID:-//CAPCA - ECPv6.2.9//NONSGML v1.0//EN
CALSCALE:GREGORIAN
METHOD:PUBLISH
X-ORIGINAL-URL:https://capca.com
X-WR-CALDESC:Events for CAPCA
REFRESH-INTERVAL;VALUE=DURATION:PT1H
X-Robots-Tag:noindex
X-PUBLISHED-TTL:PT1H
BEGIN:VTIMEZONE
TZID:America/Los_Angeles
BEGIN:DAYLIGHT
TZOFFSETFROM:-0800
TZOFFSETTO:-0700
TZNAME:PDT
DTSTART:20230312T100000
END:DAYLIGHT
BEGIN:STANDARD
TZOFFSETFROM:-0700
TZOFFSETTO:-0800
TZNAME:PST
DTSTART:20231105T090000
END:STANDARD
END:VTIMEZONE
BEGIN:VEVENT
DTSTART;TZID=America/Los_Angeles:20231101T080000
DTEND;TZID=America/Los_Angeles:20231101T150000
DTSTAMP:20260422T052231
CREATED:20231006T215034Z
LAST-MODIFIED:20231025T224420Z
UID:10000025-1698825600-1698850800@capca.com
SUMMARY:CAPCA Fresno Madera Chapter Continuing Education Hour Day
DESCRIPTION:CAPCA Fresno-Madera Chapter Continuing Education Hour Day \nDATE:\nNovember 1\, 2023 \nTIME:\nRegistration: 7:30 am\nSeminar Begins: 8:00 am\nSeminar Ends: 3:00 pm \nREGISTRATION FEE:\n$75 (Member online pre-registration)\n$85 (Non-member online pre-registration)\n*REGISTER HERE* \n$100 (on-site registration for all) \nLunch is included for pre-registered attendees only. \nCE HOURS APPROVED:\n5.5 DPR Hours (2.0 Laws\, 3.5 Other) \nADDITIONAL INFORMATION:\nOn-site registration is available space permitting.\nOnline pre-registration closes on 10/29/23. \nAGENDA (subject to change): \n8:00-8:15 a.m. – Label Update\, Valent\n \n8:15-8:30 a.m. – Label Update\, SAN Agrow \n8:30-8:45 a.m. – Label Update\, Gowan \n8:45-9:00 a.m. – Label Update\, Wonderful Labs \n9:00-9:15 a.m. – Label Update\, UPL \n9:15-9:30 a.m. – Label Update\, Phytech \n9:30-9:45 a.m. – BREAK \n9:45-10:00 a.m. – Label Update\, Helm Agro \n10:00-10:15 a.m. – Label Update\, Syngenta \n10:15-10:30 a.m. – Label Update\, EarthSol \n10:30-10:45 a.m. – Label Update\, Suterra \n10:45-11:00 a.m. – Label Update\, ADAMA \n11:00-11:15 a.m. – Label Update\, Alzchem \n11:15-11:30 a.m. – Label Update\, ProFarm \n11:30 a.m.-12:30 p.m. – LUNCH \n12:30-12:45 p.m. – Label Update\, Corteva \n12:45-1:00 p.m. – Label Update\, Plant Food Systems \n1:o0-1:15 p.m. – Label Update\, Semios \n1:15-1:30 p.m. – Label Update\, BioSafe Systems \n1:30-1:45 p.m. – Label Update\, BASF \n1:45-2:00 p.m. – BREAK \n2:00-2:15 p.m. – Label Update\, Rovensa \n2:15-2:30 p.m. – Label Update\, Nichino \n2:30-2:45 p.m. – Label Update\, Albaugh \n2:45-3:00 p.m. – Label Update\, Nutrient Tech
URL:https://capca.com/calendar/capca-fresno-madera-chapter-continuing-education-hour-day/
LOCATION:Wedgewood\, 4584 W. Jacquelyn Ave.\, Fresno\, 93722\, United States
CATEGORIES:Chapter Meeting
ATTACH;FMTTYPE=image/jpeg:https://capca.com/wp-content/uploads/2023/10/Fresno-Madera-scaled.jpg
ORGANIZER;CN="Taylor Haringa":MAILTO:Taylor.Neese@upl-ltd.com
END:VEVENT
END:VCALENDAR